Workbook
Name Print_Area_MI: Qualifiers!$B$2:$V$123

Sheet Qualifiers
A2: 2026 STATE LEVEL QUALIFIERS
B4: LEAGUE: | N4: CENTER:
B6: COACH: | L6: TELE NO: | S6: EMAIL:
B8: ADDRESS:
B10: Check appropriate box if league is a Challenge League | O10: Or is a Sport League
B12: Confirmation of entries, squad times will be by email if email address is given. If preference is by regular mail check here
G15: NOVEMBER | L15: FEBRUARY | O15: U8 = Birthdate 8/1/2017 or later | U15: U14 = Birthdate 8/1/11 - 7/31/13
B16: DIVISION | G16: No. of bowlers | J16: Qualifiers | L16: No. of bowlers | N16: Qualifiers | O16: U10 = Birthdate 8/1/15 - 7/31/17 | U16: U16 = Birthdate 8/1/09 - 7/31/11
G17: in division | J17: (1 in 7) | L17: in division | N17: (1 in 7) | O17: U12 = Birthdate 8/1/13 - 7/31/15 | U17: U18 = Birthdate 8/1/07 - 7/31/09
B18: U8 BOYS (U08B) | O18: U08B, U08G, U10B, U10G
B19: U8 GIRLS (U08G) | R19: X $24.00 = | T19: $ | U19: =IF(P19>0, P19*24, "") | X19: (a)
B20: U10 BOYS (U10B)
B21: U10 GIRLS (U10G) | O21: U12B, U12G, U14B, U14G, U16B, U16G, U18B, U18G
B22: U12 BOYS (U12B) | R22: X $40.00 = | T22: $ | U22: =IF(P22>0, P22*40, "") | X22: (b)
B23: U12 GIRLS (U12G)
B24: U14 BOYS (U14B) | O24: ===================================================
B25: U14 GIRLS (U14G) | O25: OPTIONAL HANDICAP EVENT (all divisions)
B26: U16 BOYS (U16B) | R26: X $10.00 = | T26: $ | U26: =IF(P26>0, P26*10, "") | X26: (c)
B27: U16 GIRLS (U16G) | O27: ===================================================
B28: U18 BOYS (U18B) | O28: TOTAL FEES WITH THIS FORM
B29: U18 GIRLS (U18G) | O29: ( a + b + c ) = | T29: $ | U29: =IF(+U22+U19>0, U22+U26+U19, "")
B30: 1-7 bowlers = 1 qualifier; 8-14 bowlers = 2 qualifers; 15-21 = 3 qualifiers; 22-28 = 4 qualifiers
B31: DIVISION | K31: Opt
B32: check correct boxes | K32: HDCP | S32: AVERAGE | U32: BOWLER | X32: SQUAD
B33: U8 | C33: U10 | D33: U12 | E33: U14 | F33: U16 | G33: U18 | I33: BOY | J33: GIRL | K33: EVENT | L33: NAME | S33: 1 Feb 2026 | U33: ID NUMBER | X33: DATE/TIME | AB33: BirthDate | AD33: Div Check
AD35: =LOOKUP(AB35, 'Div Check'!D$5:D$12, 'Div Check'!C$5:C$12) -> #N/A
AD37: =LOOKUP(AB37, 'Div Check'!D$5:D$12, 'Div Check'!C$5:C$12) -> #N/A
AD39: =LOOKUP(AB39, 'Div Check'!D$5:D$12, 'Div Check'!C$5:C$12) -> #N/A
AD41: =LOOKUP(AB41, 'Div Check'!D$5:D$12, 'Div Check'!C$5:C$12) -> #N/A
AD43: =LOOKUP(AB43, 'Div Check'!D$5:D$12, 'Div Check'!C$5:C$12) -> #N/A
AD45: =LOOKUP(AB45, 'Div Check'!D$5:D$12, 'Div Check'!C$5:C$12) -> #N/A
AD47: =LOOKUP(AB47, 'Div Check'!D$5:D$12, 'Div Check'!C$5:C$12) -> #N/A
AD49: =LOOKUP(AB49, 'Div Check'!D$5:D$12, 'Div Check'!C$5:C$12) -> #N/A
AD51: =LOOKUP(AB51, 'Div Check'!D$5:D$12, 'Div Check'!C$5:C$12) -> #N/A
AD53: =LOOKUP(AB53, 'Div Check'!D$5:D$12, 'Div Check'!C$5:C$12) -> #N/A
AD55: =LOOKUP(AB55, 'Div Check'!D$5:D$12, 'Div Check'!C$5:C$12) -> #N/A
AD57: =LOOKUP(AB57, 'Div Check'!D$5:D$12, 'Div Check'!C$5:C$12) -> #N/A
... AD61: =LOOKUP(AB61, 'Div Check'!D$5:D$12, 'Div Check'!C$5:C$12) -> #N/A
B63: RETURN WITH FEES & AVERAGE SHEETS. POSTMARK BY MARCH 19, 2026. | S63: IF LEAGUE STANDINGS ARE ONLINE,
B64: MAKE CHECKS PAYABLE TO: VIRGINIA STATE YBC. | S64: A LINK TO STANDINGS IS ACCEPTABLE.
B65: (PLEASE SEND A LEAGUE CHECK, CASHIERS CHECK, CERTIFIED CHECK OR MONEY ORDER)
B66: PLEASE INDICATE DESIRED SQUAD TIMES, IF POSSIBLE.
B68: RETURN TO: KEN SPRIGINGS, 1518 OLDE COURSE LANE, SALEM, VA 24153
B69: SEE BACK FOR ADDITIONAL SPACES FOR ENTRIES.
B70: 2026 STATE LEVEL QUALIFIERS
B72: LEAGUE: | D72: =D4 -> 0 | N72: CENTER: | P72: =P4 -> 0
O74: U8 = Birthdate 8/1/2017 or later | U74: U14 = Birthdate 8/1/11 - 7/31/13
O75: U10 = Birthdate 8/1/15 - 7/31/17 | U75: U16 = Birthdate 8/1/09 - 7/31/11
O76: U12 = Birthdate 8/1/13 - 7/31/15 | U76: U18 = Birthdate 8/1/07 - 7/31/09
B78: DIVISION | K78: Opt
B79: check correct boxes | K79: HDCP | S79: AVERAGE | U79: BOWLER | X79: SQUAD
B80: U8 | C80: U10 | D80: U12 | E80: U14 | F80: U16 | G80: U18 | I80: BOY | J80: GIRL | K80: EVENT | L80: NAME | S80: 1 Feb 2026 | U80: ID NUMBER | X80: DATE/TIME | AB80: BirthDate | AD80: Div Check
AD82: =LOOKUP(AB82, 'Div Check'!D$5:D$12, 'Div Check'!C$5:C$12) -> #N/A
AD84: =LOOKUP(AB84, 'Div Check'!D$5:D$12, 'Div Check'!C$5:C$12) -> #N/A
AD86: =LOOKUP(AB86, 'Div Check'!D$5:D$12, 'Div Check'!C$5:C$12) -> #N/A
AD88: =LOOKUP(AB88, 'Div Check'!D$5:D$12, 'Div Check'!C$5:C$12) -> #N/A
AD90: =LOOKUP(AB90, 'Div Check'!D$5:D$12, 'Div Check'!C$5:C$12) -> #N/A
AD92: =LOOKUP(AB92, 'Div Check'!D$5:D$12, 'Div Check'!C$5:C$12) -> #N/A
AD94: =LOOKUP(AB94, 'Div Check'!D$5:D$12, 'Div Check'!C$5:C$12) -> #N/A
AD96: =LOOKUP(AB96, 'Div Check'!D$5:D$12, 'Div Check'!C$5:C$12) -> #N/A
AD98: =LOOKUP(AB98, 'Div Check'!D$5:D$12, 'Div Check'!C$5:C$12) -> #N/A
AD100: =LOOKUP(AB100, 'Div Check'!D$5:D$12, 'Div Check'!C$5:C$12) -> #N/A
AD102: =LOOKUP(AB102, 'Div Check'!D$5:D$12, 'Div Check'!C$5:C$12) -> #N/A
AD104: =LOOKUP(AB104, 'Div Check'!D$5:D$12, 'Div Check'!C$5:C$12) -> #N/A
... AD130: =LOOKUP(AB130, 'Div Check'!D$5:D$12, 'Div Check'!C$5:C$12) -> #N/A
B134: RETURN TO: KEN SPRIGINGS, 1518 OLDE COURSE LANE, SALEM, VA 24153

Sheet Div Check
C3: mm/dd/yyyy
C5: BEFORE | D5: 39294 | F5: Too Old
C7: u18 | D7: 39295 | F7: Bowlers whose birthdate is 8/1/2007 thru 7/31/09
C8: u16 | D8: 40026 | F8: Bowlers whose birthdate is 8/1/2009 thru 7/31/11
C9: u14 | D9: 40756 | F9: Bowlers whose birthdate is 8/1/2011 thru 7/31/13
C10: u12 | D10: 41487 | F10: Bowlers whose birthdate is 8/1/2013 thru 7/31/15
C11: u10 | D11: 42217 | F11: Bowlers whose birthdate is 8/1/2015 thru 7/31/17
C12: u08 | D12: 42948 | F12: Bowlers whose birthdate is 8/1/2017 or later
