Workbook
Name Print_Area_MI: Qualifiers!$B$2:$U$123

Sheet Qualifiers
B2: 2024 STATE LEVEL QUALIFIERS
B4: LEAGUE: | K4: CENTER: | R4: ASSOC:
B6: COACH: | K6: TELE NO: | R6: EMAIL:
B8: ADDRESS:
B10: Check appropriate box if league is a Challenge League | N10: Or is a Sport League
B12: Confirmation of entries, squad times will be by email if email address is given. If preference is by regular mail check here
G15: NOVEMBER | K15: FEBRUARY | N15: U8 = Birthdate 8/1/2015 or later | T15: U15 = Birthdate 8/1/08 - 7/31/11
B16: DIVISION | G16: No. of bowlers | I16: Qualifiers | K16: No. of bowlers | M16: Qualifiers | N16: U10 = Birthdate 8/1/13 - 7/31/15 | T16: U18 = Birthdate 8/1/05 - 7/31/08
G17: in division | I17: (1 in 7) | K17: in division | M17: (1 in 7) | N17: U12 = Birthdate 8/1/11 - 7/31/13
B18: U8 BOYS (U8B) | N18: U8B, U8G, U10B, U10G
B19: U8 GIRLS (U8G) | Q19: X $23.00 = | S19: $ | T19: =IF(O19>0, O19*23, "") | W19: (a)
B20: U10 BOYS (U10B)
B21: U10 GIRLS (U10G) | N21: ===================================================
B22: U12 BOYS (U12B) | N22: U12B, U12G, U15B, U15G, U18B, U18G
B23: U12 GIRLS (U12G) | Q23: X $39.00 = | S23: $ | T23: =IF(O23>0, O23*39, "") | W23: (b)
B24: U15 BOYS (U15B) | N24: ===================================================
B25: U15 GIRLS (U15G) | N25: OPTIONAL HANDICAP EVENT (all divisions)
B26: U18 BOYS (U18B) | Q26: X $10.00 = | S26: $ | T26: =IF(O26>0, O26*10, "") | W26: (c)
B27: U18 GIRLS (U18G) | N27: ===================================================
N28: TOTAL FEES WITH THIS FORM
O29: ( a + b + c ) = | S29: $ | T29: =IF(+T23+T19>0, T23+T26+T19, "")
B30: 1-7 bowlers = 1 qualifier; 8-14 bowlers = 2 qualifers; 15-21 = 3 qualifiers; 22-28 = 4 qualifiers | N30: ===================================================
B31: DIVISION | J31: Opt
B32: check correct boxes | J32: HDCP | R32: AVERAGE | T32: BOWLER | W32: SQUAD
B33: U8 | C33: U10 | D33: U12 | E33: U15 | F33: U18 | H33: BOY | I33: GIRL | J33: EVENT | K33: NAME | R33: 1 Feb 2024 | T33: ID NUMBER | W33: DATE/TIME | AA33: BirthDate | AC33: Div Check
AC35: =LOOKUP(AA35, 'Div Check'!D$5:D$11, 'Div Check'!C$5:C$11) -> #N/A
AC37: =LOOKUP(AA37, 'Div Check'!D$5:D$11, 'Div Check'!C$5:C$11) -> #N/A
AC39: =LOOKUP(AA39, 'Div Check'!D$5:D$11, 'Div Check'!C$5:C$11) -> #N/A
AC41: =LOOKUP(AA41, 'Div Check'!D$5:D$11, 'Div Check'!C$5:C$11) -> #N/A
AC43: =LOOKUP(AA43, 'Div Check'!D$5:D$11, 'Div Check'!C$5:C$11) -> #N/A
AC45: =LOOKUP(AA45, 'Div Check'!D$5:D$11, 'Div Check'!C$5:C$11) -> #N/A
AC47: =LOOKUP(AA47, 'Div Check'!D$5:D$11, 'Div Check'!C$5:C$11) -> #N/A
AC49: =LOOKUP(AA49, 'Div Check'!D$5:D$11, 'Div Check'!C$5:C$11) -> #N/A
AC51: =LOOKUP(AA51, 'Div Check'!D$5:D$11, 'Div Check'!C$5:C$11) -> #N/A
AC53: =LOOKUP(AA53, 'Div Check'!D$5:D$11, 'Div Check'!C$5:C$11) -> #N/A
AC55: =LOOKUP(AA55, 'Div Check'!D$5:D$11, 'Div Check'!C$5:C$11) -> #N/A
AC57: =LOOKUP(AA57, 'Div Check'!D$5:D$11, 'Div Check'!C$5:C$11) -> #N/A
... AC61: =LOOKUP(AA61, 'Div Check'!D$5:D$11, 'Div Check'!C$5:C$11) -> #N/A
B63: RETURN WITH FEES & AVERAGE SHEETS. POSTMARK BY MARCH 13, 2024. | R63: IF LEAGUE STANDINGS ARE ONLINE,
B64: MAKE CHECKS PAYABLE TO: VIRGINIA STATE YBC. | R64: A LINK TO STANDINGS IS ACCEPTABLE.
B65: (PLEASE SEND A LEAGUE CHECK, CASHIERS CHECK, CERTIFIED CHECK OR MONEY ORDER)
B66: PLEASE INDICATE DESIRED SQUAD TIMES, IF POSSIBLE.
B68: RETURN TO: KEN SPRIGINGS, 1518 OLDE COURSE LANE, SALEM, VA 24153
B69: SEE BACK FOR ADDITIONAL SPACES FOR ENTRIES.
B70: 2024 STATE LEVEL QUALIFIERS
B72: LEAGUE: | D72: =T69+D4 -> 0 | L72: CENTER: | N72: =+M4 -> 0 | T72: ASSOC: | U72: =+T4 -> 0
N74: U8 = Birthdate 8/1/2015 or later | T74: U15 = Birthdate 8/1/08 - 7/31/11
N75: U10 = Birthdate 8/1/13 - 7/31/15 | T75: U18 = Birthdate 8/1/05 - 7/31/08
N76: U12 = Birthdate 8/1/11 - 7/31/13
B78: DIVISION | J78: Opt
B79: check correct boxes | J79: HDCP | R79: AVERAGE | T79: BOWLER | W79: SQUAD
B80: U8 | C80: U10 | D80: U12 | E80: U15 | F80: U18 | H80: BOY | I80: GIRL | J80: EVENT | K80: NAME | R80: 1 Feb 2024 | T80: ID NUMBER | W80: DATE/TIME | AA80: BirthDate | AC80: Div Check
AC82: =LOOKUP(AA82, 'Div Check'!D$5:D$11, 'Div Check'!C$5:C$11) -> #N/A
AC84: =LOOKUP(AA84, 'Div Check'!D$5:D$11, 'Div Check'!C$5:C$11) -> #N/A
AC86: =LOOKUP(AA86, 'Div Check'!D$5:D$11, 'Div Check'!C$5:C$11) -> #N/A
AC88: =LOOKUP(AA88, 'Div Check'!D$5:D$11, 'Div Check'!C$5:C$11) -> #N/A
AC90: =LOOKUP(AA90, 'Div Check'!D$5:D$11, 'Div Check'!C$5:C$11) -> #N/A
AC92: =LOOKUP(AA92, 'Div Check'!D$5:D$11, 'Div Check'!C$5:C$11) -> #N/A
AC94: =LOOKUP(AA94, 'Div Check'!D$5:D$11, 'Div Check'!C$5:C$11) -> #N/A
AC96: =LOOKUP(AA96, 'Div Check'!D$5:D$11, 'Div Check'!C$5:C$11) -> #N/A
AC98: =LOOKUP(AA98, 'Div Check'!D$5:D$11, 'Div Check'!C$5:C$11) -> #N/A
AC100: =LOOKUP(AA100, 'Div Check'!D$5:D$11, 'Div Check'!C$5:C$11) -> #N/A
AC102: =LOOKUP(AA102, 'Div Check'!D$5:D$11, 'Div Check'!C$5:C$11) -> #N/A
AC104: =LOOKUP(AA104, 'Div Check'!D$5:D$11, 'Div Check'!C$5:C$11) -> #N/A
... AC130: =LOOKUP(AA130, 'Div Check'!D$5:D$11, 'Div Check'!C$5:C$11) -> #N/A
B134: RETURN TO: KEN SPRIGINGS, 1518 OLDE COURSE LANE, SALEM, VA 24153

Sheet Div Check
C3: mm/dd/yyyy
C5: BEFORE | D5: 38564 | F5: Too Old
C7: u18 | D7: 38565 | F7: Bowlers whose birthdate is 8/1/2005 thru 7/31/08
C8: u15 | D8: 39661 | F8: Bowlers whose birthdate is 8/1/2008 thru 7/31/11
C9: u12 | D9: 40756 | F9: Bowlers whose birthdate is 8/1/2011 thru 7/31/13
C10: u10 | D10: 41487 | F10: Bowlers whose birthdate is 8/1/2013 thru 7/31/15
C11: u8 | D11: 42217 | F11: Bowlers whose birthdate is 8/1/2015 or later
