Workbook
Name Print_Area_MI: A!$B$2:$V$123

Sheet A
B2: 2019 STATE LEVEL QUALIFIERS
B4: LEAGUE: | L4: CENTER: | S4: ASSOC:
B6: COACH: | L6: TELE NO: | S6: EMAIL:
B8: ADDRESS:
B10: Confirmation of entries, squad times will be by email if email address is given. If preference is by regular mail check here
G13: NOVEMBER | L13: FEBRUARY | O13: U8 = Birthdate 8/1/2010 or later | U13: U15 = Birthdate 8/1/03 - 7/31/06
B14: DIVISION | G14: No. of bowlers | J14: Qualifiers | L14: No. of bowlers | N14: Qualifiers | O14: U10 = Birthdate 8/1/08 - 7/31/10 | U14: U17 = Birthdate 8/1/01 - 7/31/03
G15: in division | J15: (1 in 10) | L15: in division | N15: (1 in 10) | O15: U12 = Birthdate 8/1/06 - 7/31/08 | U15: U20 = Birthdate 8/1/98 - 7/31/01
B16: U8 BOYS (U8B) | O16: U8B, U8G, U10B, U10G
B17: U8 GIRLS (U8G) | R17: X $19.00 = | T17: $ | U17: =IF(P17>0, P17*19, "") | X17: (a)
B18: U10 BOYS (U10B)
B19: U10 GIRLS (U10G) | O19: ===================================================
B20: U12 BOYS (U12B) | O20: U12B, U12G, U15B, U15G, U17B, U17G, U20B, U20G
B21: U12 GIRLS (U12G) | R21: X $32.00 = | T21: $ | U21: =IF(P21>0, P21*32, "") | X21: (b)
B22: U15 BOYS (U15B) | O22: ===================================================
B23: U15 GIRLS (U15G) | O23: OPTIONAL HANDICAP EVENT (all divisions)
B24: U17 BOYS (U17B) | R24: X $10.00 = | T24: $ | U24: =IF(P24>0, P24*10, "") | X24: (c)
B25: U17 GIRLS (U17G) | O25: ===================================================
B26: U20 BOYS (U20B) | O26: TOTAL FEES WITH THIS FORM
B27: U20 GIRLS (U20G) | P27: ( a + b + c ) = | T27: $ | U27: =IF(+U21+U17>0, U21+U24+U17, "")
B28: 1-10 bowlers = 1 qualifier; 11-20 bowlers = 2 qualifers; 21-30 = 3 qualifiers; 31-40 = 4 qualifiers | O28: ===============================================================
B29: DIVISION | K29: Opt
B30: check correct boxes | K30: HDCP | S30: AVERAGE | U30: BOWLER | X30: SQUAD
B31: U8 | C31: U10 | D31: U12 | E31: U15 | F31: U17 | G31: U20 | I31: BOY | J31: GIRL | K31: EVENT | L31: NAME | S31: 1 Feb 2019 | U31: ID NUMBER | X31: DATE/TIME | AB31: BirthDate | AD31: Div Check
AD33: =LOOKUP(AB33, 'Div Check'!D$5:D$11, 'Div Check'!C$5:C$11) -> #N/A
AD35: =LOOKUP(AB35, 'Div Check'!D$5:D$11, 'Div Check'!C$5:C$11) -> #N/A
AD37: =LOOKUP(AB37, 'Div Check'!D$5:D$11, 'Div Check'!C$5:C$11) -> #N/A
AD39: =LOOKUP(AB39, 'Div Check'!D$5:D$11, 'Div Check'!C$5:C$11) -> #N/A
AD41: =LOOKUP(AB41, 'Div Check'!D$5:D$11, 'Div Check'!C$5:C$11) -> #N/A
AD43: =LOOKUP(AB43, 'Div Check'!D$5:D$11, 'Div Check'!C$5:C$11) -> #N/A
AD45: =LOOKUP(AB45, 'Div Check'!D$5:D$11, 'Div Check'!C$5:C$11) -> #N/A
AD47: =LOOKUP(AB47, 'Div Check'!D$5:D$11, 'Div Check'!C$5:C$11) -> #N/A
AD49: =LOOKUP(AB49, 'Div Check'!D$5:D$11, 'Div Check'!C$5:C$11) -> #N/A
AD51: =LOOKUP(AB51, 'Div Check'!D$5:D$11, 'Div Check'!C$5:C$11) -> #N/A
AD53: =LOOKUP(AB53, 'Div Check'!D$5:D$11, 'Div Check'!C$5:C$11) -> #N/A
AD55: =LOOKUP(AB55, 'Div Check'!D$5:D$11, 'Div Check'!C$5:C$11) -> #N/A
... AD61: =LOOKUP(AB61, 'Div Check'!D$5:D$11, 'Div Check'!C$5:C$11) -> #N/A
B63: RETURN THIS FORM WITH FEES & AVERAGE SHEETS BY MARCH 19, 2019. | S63: IF LEAGUE STANDINGS ARE ONLINE,
B64: MAKE CHECKS PAYABLE TO: VIRGINIA STATE YBC. | S64: A LINK TO STANDINGS IS ACCEPTABLE.
B65: (PLEASE SEND A LEAGUE CHECK, CASHIERS CHECK, CERTIFIED CHECK OR MONEY ORDER)
...

Sheet Div Check
C3: mm/dd/yyyy
C5: BEFORE | D5: 36007 | F5: Too Old
C6: u20 | D6: 36008 | F6: Bowlers whose birthdate is 8/1/1997 thru 7/31/02
C7: u17 | D7: 37104 | F7: Bowlers whose birthdate is 8/1/2002 thru 7/31/05
C8: u15 | D8: 37834 | F8: Bowlers whose birthdate is 8/1/2002 thru 7/31/05
C9: u12 | D9: 38930 | F9: Bowlers whose birthdate is 8/1/2005 thru 7/31/07
C10: u10 | D10: 39661 | F10: Bowlers whose birthdate is 8/1/2007 thru 7/31/09
C11: u8 | D11: 40391 | F11: Bowlers whose birthdate is 8/1/2009 or later
